BEGIN:VCALENDAR
VERSION:2.0
PRODID:-//wp-events-plugin.com//7.0.5//EN
TZID:Europe/Lisbon
X-WR-TIMEZONE:Europe/Lisbon
BEGIN:VEVENT
UID:3@yoga.pro.br
DTSTART;TZID=Europe/Lisbon:20191101T090000
DTEND;TZID=Europe/Lisbon:20191103T130000
DTSTAMP:20191007T220428Z
URL:https://www.yoga.pro.br/eventos/asana-e-autoconhecimento/
SUMMARY:Āsana e Autoconhecimento
DESCRIPTION:Este intensivo de três dias combina práticas físicas com o e
 nsinamento do Yoga sobre a liberdade e o viver consciente. A compreensão
  dessa visão revela-se essencial para entender\, praticar e\, principalme
 nte\, aplicar corretamente o Yoga no cotidiano.\n\nUsando uma linguagem ac
 essível e inspiradora\, Pedro mergulha junto com o grupo na fascinante vi
 são que o Yoga tem do homem e do universo. O encontro tece uma malha de p
 ráticas físicas\, energéticas e meditativas\, associadas a reflexões\,
  mantras\, parábolas e estudo.\n\nAo longo do encontro irão propor-se di
 versas maneiras de praticar-se as diferentes técnicas de āsana\, na for
 ma de uma verdadeira meditação em movimento\, para que cada pessoa possa
  estabelecer uma relação única e enriquecedora com essas práticas.
ATTACH;FMTTYPE=image/jpeg:https://www.yoga.pro.br/wp-content/uploads/2019/
 10/Urdhvahastasana-Nuno.jpg
CATEGORIES:Cursos
LOCATION:Yoga Place - Ericeira\, Praceta Casalito de São Lourenço\, 108\,
  Encarnação\, 2640-254\, Mafra\, Portugal
X-APPLE-STRUCTURED-LOCATION;VALUE=URI;X-ADDRESS=Praceta Casalito de São Lo
 urenço\, 108\, Encarnação\, 2640-254\, Mafra\, Portugal;X-APPLE-RADIUS=
 100;X-TITLE=Yoga Place - Ericeira:geo:0,0
END:VEVENT
BEGIN:VTIMEZONE
TZID:Europe/Lisbon
X-LIC-LOCATION:Europe/Lisbon
BEGIN:STANDARD
DTSTART:20191027T010000
TZOFFSETFROM:+0100
TZOFFSETTO:+0000
TZNAME:WET
END:STANDARD
END:VTIMEZONE
END:VCALENDAR