BEGIN:VCALENDAR
VERSION:2.0
PRODID:-//wp-events-plugin.com//7.0.5//EN
TZID:Europe/Lisbon
X-WR-TIMEZONE:Europe/Lisbon
BEGIN:VEVENT
UID:34@yoga.pro.br
DTSTART;TZID=America/Sao_Paulo:20271231T070000
DTEND;TZID=America/Sao_Paulo:20271231T130000
DTSTAMP:20241116T012333Z
URL:https://www.yoga.pro.br/eventos/nirvana-satkam-curso-online-com-pedro-
 kupfer/
SUMMARY:Yoga e Nirvāna Ṣaṭkam\, as Seis Estrofes da Iluminação
DESCRIPTION:Ao longo deste intensivo online\, Pedro irá compartilhar com o
 s praticantes a incrível visão libertadora do Nirvāna Ṣaṭkam\, um b
 elíssimo poema do século VIII de autoria de Śrī Ādi Śaṅkarācārya
 .
ATTACH;FMTTYPE=image/jpeg:https://www.yoga.pro.br/wp-content/uploads/2021/
 08/dfbf013f-a891-469e-a30f-90def77f3e57.jpg
CATEGORIES:Cursos
LOCATION:A Sala da sua Casa\, o seu Lar\, no seu Bairro\, na sua Cidade\, 1
 008-108\, no Planeta Terra\, Brasil
X-APPLE-STRUCTURED-LOCATION;VALUE=URI;X-ADDRESS=o seu Lar\, no seu Bairro\,
  na sua Cidade\, 1008-108\, no Planeta Terra\, Brasil;X-APPLE-RADIUS=100;X
 -TITLE=A Sala da sua Casa:geo:0,0
END:VEVENT
BEGIN:VTIMEZONE
TZID:America/Sao_Paulo
X-LIC-LOCATION:America/Sao_Paulo
BEGIN:STANDARD
DTSTART:20261231T070000
TZOFFSETFROM:-0300
TZOFFSETTO:-0300
TZNAME:-03
END:STANDARD
END:VTIMEZONE
END:VCALENDAR