BEGIN:VCALENDAR
VERSION:2.0
PRODID:-//wp-events-plugin.com//7.0.5//EN
TZID:Europe/Lisbon
X-WR-TIMEZONE:Europe/Lisbon
BEGIN:VEVENT
UID:40@yoga.pro.br
DTSTART;TZID=Europe/Lisbon:20220514T090000
DTEND;TZID=Europe/Lisbon:20220515T160000
DTSTAMP:20220404T172119Z
URL:https://www.yoga.pro.br/eventos/yoga-e-saude-da-coluna-intensivo-prese
 ncial/
SUMMARY:Yoga e Saúde da Coluna | Curso Presencial com Pedro Kupfer
DESCRIPTION:Este intensivo é indicado para quem deseje aprimorar-se na pr
 ática. consiste numa combinação de vivências\, treinos e estudos centr
 ados na saúde da coluna vertebral.
ATTACH;FMTTYPE=image/jpeg:https://www.yoga.pro.br/wp-content/uploads/2022/
 04/Haveli-02-scaled.jpg
CATEGORIES:Cursos
LOCATION:Yoga Havelī\, Âlvaro Vaz do Urmeiro 113\, São Pedro da Cadeira\
 , Torres Vedras\, 2560-200\, Lisboa\, Portugal
X-APPLE-STRUCTURED-LOCATION;VALUE=URI;X-ADDRESS=Âlvaro Vaz do Urmeiro 113\
 , São Pedro da Cadeira\, Torres Vedras\, 2560-200\, Lisboa\, Portugal;X-A
 PPLE-RADIUS=100;X-TITLE=Yoga Havelī:geo:0,0
END:VEVENT
BEGIN:VTIMEZONE
TZID:Europe/Lisbon
X-LIC-LOCATION:Europe/Lisbon
BEGIN:DAYLIGHT
DTSTART:20220327T020000
TZOFFSETFROM:+0000
TZOFFSETTO:+0100
TZNAME:WEST
END:DAYLIGHT
END:VTIMEZONE
END:VCALENDAR