BEGIN:VCALENDAR
VERSION:2.0
PRODID:-//wp-events-plugin.com//7.0.5//EN
TZID:Europe/Lisbon
X-WR-TIMEZONE:Europe/Lisbon
BEGIN:VEVENT
UID:58@yoga.pro.br
DTSTART;TZID=America/Sao_Paulo:20271231T070000
DTEND;TZID=America/Sao_Paulo:20271231T130000
DTSTAMP:20260401T125118Z
URL:https://www.yoga.pro.br/eventos/yogasutra-de-patanjali/
SUMMARY:Yoga Sutra de Patañjali: Capítulos 1 e 2
DESCRIPTION:Este curso online com 54 horas combina práticas tradicionais c
 om o estudo dos primeiros dois capítulos do Yogasūtra. Usando uma lingua
 gem acessível e estimulante\, Pedro mergulha junto com os praticantes na 
 fascinante visão que o Yogasūtra de Patañjali tem do homem e do univers
 o. O encontro tece uma malha de vigorosas práticas físicas e energética
 s associadas a meditações\, reflexões\, mantras\, parábolas e estudo.
ATTACH;FMTTYPE=image/jpeg:https://www.yoga.pro.br/wp-content/uploads/2024/
 09/248d3b59-5dd0-401d-a6f0-1b9b29de7fd5.jpg
CATEGORIES:Cursos
LOCATION:A Sala da sua Casa\, na sua Cidade\, no Planeta Terra\, 10008-108\
 , Brasil
X-APPLE-STRUCTURED-LOCATION;VALUE=URI;X-ADDRESS=na sua Cidade\, no Planeta 
 Terra\, 10008-108\, Brasil;X-APPLE-RADIUS=100;X-TITLE=A Sala da sua Casa:g
 eo:0,0
END:VEVENT
BEGIN:VTIMEZONE
TZID:America/Sao_Paulo
X-LIC-LOCATION:America/Sao_Paulo
BEGIN:STANDARD
DTSTART:20261231T070000
TZOFFSETFROM:-0300
TZOFFSETTO:-0300
TZNAME:-03
END:STANDARD
END:VTIMEZONE
END:VCALENDAR